BEGIN:VCALENDAR
VERSION:2.0
PRODID:-//Intand Corporation//Tandem//EN
METHOD:PUBLISH
BEGIN:VEVENT
DTSTAMP:20260421T190018Z
DTSTART:20260425T001500Z
DTEND:20260425T011500Z
TRANSP:TRANSPARENT
PRIORITY:0
SUMMARY:MS Girls Flag Football vs Horizon Honors
LOCATION:Phoenix Christian Preparatory School
DESCRIPTION:8th Grade Night!\n\n\nLocation:\nPhoenix Christian Preparatory
  School\n\n
URL;VALUE=URI:http://phoenixchristianpreparatory.tandem.co/index.php?type=
 view&action=event&id=22965
CREATED:20260304T174925Z
LAST-MODIFIED:20260304T175808Z
UID:event_request-22965-phoenixchristianpreparatory@intand.com
END:VEVENT
END:VCALENDAR
