BEGIN:VCALENDAR
VERSION:2.0
PRODID:-//Intand Corporation//Tandem//EN
METHOD:PUBLISH
BEGIN:VEVENT
DTSTAMP:20260421T190018Z
DTSTART:20260511T143000Z
DTEND:20260511T193000Z
TRANSP:TRANSPARENT
PRIORITY:0
SUMMARY:AP Calculus Test
LOCATION:Phoenix Christian Preparatory School > 2011 Room
DESCRIPTION:College Board AP Calculus Test\n\n\nLocation:\nPhoenix Christi
 an Preparatory School > 2011 Room\n\nContacts:\nAnthony Suarez\n\n
URL;VALUE=URI:http://phoenixchristianpreparatory.tandem.co/index.php?type=
 view&action=event&id=22941
CREATED:20260302T172447Z
LAST-MODIFIED:20260302T173043Z
UID:event_request-22941-phoenixchristianpreparatory@intand.com
END:VEVENT
END:VCALENDAR
